0.014950
0.000000
0.000000
-0.014950
175.408340
-36.025002
