0.014950
0.000000
0.000000
-0.014925
164.366669
-42.825001
