0.014950
0.000000
0.000000
-0.014950
175.025000
-34.691666
