0.014950
0.000000
0.000000
-0.014950
177.008333
-35.408333
