0.014950
0.000000
0.000000
-0.014925
176.983337
-35.150002
