0.014950
0.000000
0.000000
-0.014950
169.316667
-40.450001
